BEGIN:VCALENDAR
VERSION:2.0
PRODID:-//National Potato Council - ECPv5.7.0//NONSGML v1.0//EN
CALSCALE:GREGORIAN
METHOD:PUBLISH
X-WR-CALNAME:National Potato Council
X-ORIGINAL-URL:https://www.nationalpotatocouncil.org
X-WR-CALDESC:Events for National Potato Council
BEGIN:VTIMEZONE
TZID:America/New_York
BEGIN:DAYLIGHT
TZOFFSETFROM:-0500
TZOFFSETTO:-0400
TZNAME:EDT
DTSTART:20210314T070000
END:DAYLIGHT
BEGIN:STANDARD
TZOFFSETFROM:-0400
TZOFFSETTO:-0500
TZNAME:EST
DTSTART:20211107T060000
END:STANDARD
END:VTIMEZONE
BEGIN:VEVENT
DTSTART;VALUE=DATE:20210222
DTEND;VALUE=DATE:20210226
DTSTAMP:20210610T040423
CREATED:20201027T174951Z
LAST-MODIFIED:20210119T140811Z
UID:1203-1613952000-1614297599@www.nationalpotatocouncil.org
SUMMARY:NPC Annual Meeting
DESCRIPTION:At the 2021 Annual Meeting\, NPC’s Board of Directors will elect the next set of grower leaders and identify the policy priorities that will help advance the health and well being of the U.S. potato industry. \nDue to D.C. government\, congressional\, and federal agency restrictions regarding COVID\, the National Potato Council moved the 2021 Annual Meeting to a virtual event\, which will coincide with the 2021 Potato D.C. Fly-In\, scheduled for Feb. 22-25.
URL:https://www.nationalpotatocouncil.org/event/npc-annual-meeting/
LOCATION:CA
CATEGORIES:Meeting
ATTACH;FMTTYPE=image/jpeg:https://www.nationalpotatocouncil.org/wp-content/uploads/2020/10/npc_4625-scaled-e1603820962592.jpg
END:VEVENT
BEGIN:VEVENT
DTSTART;VALUE=DATE:20210222
DTEND;VALUE=DATE:20210226
DTSTAMP:20210610T040423
CREATED:20201027T173137Z
LAST-MODIFIED:20210119T140938Z
UID:1197-1613952000-1614297599@www.nationalpotatocouncil.org
SUMMARY:Potato D.C. Fly-In
DESCRIPTION:Each year\, growers and industry partners from around the country come together at the Potato D.C. Fly-In to make a difference on issues impacting the potato industry. The fly-in is open to all potato growers and industry leaders who want to be an advocate for their industry in our nation’s capital. \nDue to D.C. government\, congressional\, and federal agency restrictions regarding COVID\, the National Potato Council moved the 2021 Potato D.C. Fly-In to a virtual event. The meeting will occur the week of Feb. 22-25 as originally scheduled and will also include the NPC Annual Meeting as previously announced.
URL:https://www.nationalpotatocouncil.org/event/potato-d-c-fly-in/
LOCATION:CA
CATEGORIES:Meeting
ATTACH;FMTTYPE=image/jpeg:https://www.nationalpotatocouncil.org/wp-content/uploads/2020/10/WJS_7129-scaled-e1603820011987.jpg
END:VEVENT
BEGIN:VEVENT
DTSTART;VALUE=DATE:20210105
DTEND;VALUE=DATE:20210108
DTSTAMP:20210610T040423
CREATED:20201102T153807Z
LAST-MODIFIED:20201112T154722Z
UID:1201-1609804800-1610063999@www.nationalpotatocouncil.org
SUMMARY:Potato Expo 2021
DESCRIPTION:Each year\, the Potato Expo brings together growers\, suppliers and industry experts to make the largest conference and trade show for the potato industry. In light of on-going developments with COVID-19 and after thoughtful discussions with our Executive Committee and supporting companies\, and through feedback via attendee surveys\, we have decided to hold the Potato Expo 2021 as a Virtual Experience\, held exclusively online. We believe this is the safest approach for the well-being of our attendees\, along with their families\, farms and colleagues.
URL:https://www.nationalpotatocouncil.org/event/potato-expo-2021/
LOCATION:CA
CATEGORIES:Meeting,Webinar
ATTACH;FMTTYPE=image/jpeg:https://www.nationalpotatocouncil.org/wp-content/uploads/2020/11/336x280_ComeTogether_Banner-003.jpg
END:VEVENT
END:VCALENDAR