BEGIN:VCALENDAR
VERSION:2.0
PRODID:-//National Potato Council - ECPv5.8.1//NONSGML v1.0//EN
CALSCALE:GREGORIAN
METHOD:PUBLISH
X-WR-CALNAME:National Potato Council
X-ORIGINAL-URL:https://www.nationalpotatocouncil.org
X-WR-CALDESC:Events for National Potato Council
BEGIN:VTIMEZONE
TZID:America/New_York
BEGIN:DAYLIGHT
TZOFFSETFROM:-0500
TZOFFSETTO:-0400
TZNAME:EDT
DTSTART:20200308T070000
END:DAYLIGHT
BEGIN:STANDARD
TZOFFSETFROM:-0400
TZOFFSETTO:-0500
TZNAME:EST
DTSTART:20201101T060000
END:STANDARD
END:VTIMEZONE
BEGIN:VEVENT
DTSTART;TZID=America/New_York:20201013T080000
DTEND;TZID=America/New_York:20201013T170000
DTSTAMP:20210818T041447
CREATED:20201013T223122Z
LAST-MODIFIED:20201013T223134Z
UID:794-1602576000-1602608400@www.nationalpotatocouncil.org
SUMMARY:MG - Event test
DESCRIPTION:Event test content
URL:https://www.nationalpotatocouncil.org/event/mg-event-test/
LOCATION:CA
CATEGORIES:Webinar
END:VEVENT
END:VCALENDAR